BEGIN:VCALENDAR
VERSION:2.0
PRODID:-//hacksw/handcal//NONSGML v1.0//EN
BEGIN:VEVENT
SUMMARY:Match senior
UID:49cceb5f-c92e-4c8c-9849-ca679ee020da
DTSTART:20260405T130000Z
DTEND:20260405T150000Z
LOCATION:Localisation   Gambais
CATEGORIES:Sportif
STATUS:
DESCRIPTION:<p>Match seniors a Gambais</p>
URL;VALUE=URI:https://www.afc78.fr/evenements/2026/04/05/match-senior-2435242
END:VEVENT
END:VCALENDAR
